BEGIN:VCALENDAR
VERSION:2.0
PRODID:-//Dairy Block - ECPv6.15.20//NONSGML v1.0//EN
CALSCALE:GREGORIAN
METHOD:PUBLISH
X-WR-CALNAME:Dairy Block
X-ORIGINAL-URL:https://dairyblock.com
X-WR-CALDESC:Events for Dairy Block
REFRESH-INTERVAL;VALUE=DURATION:PT1H
X-Robots-Tag:noindex
X-PUBLISHED-TTL:PT1H
BEGIN:VTIMEZONE
TZID:UTC
BEGIN:STANDARD
TZOFFSETFROM:+0000
TZOFFSETTO:+0000
TZNAME:UTC
DTSTART:20240101T000000
END:STANDARD
END:VTIMEZONE
BEGIN:VEVENT
DTSTART;TZID=UTC:20250718T170000
DTEND;TZID=UTC:20250718T190000
DTSTAMP:20260422T091053
CREATED:20250506T215314Z
LAST-MODIFIED:20250506T215314Z
UID:21886-1752858000-1752865200@dairyblock.com
SUMMARY:Alley Soundscapes: Tim & Jenny
DESCRIPTION:Uncover the boundless sounds of Denver through music.\nEnjoy live music from Denver local artists\, every weekend in the vibrant Dairy Block Alley. Line-ups are updated every month with new and returning artists. \nTonight’s featured artist: Tim & Jenny\nARTIST BIO \nTim Ostdiek and Jenny Balagna\, both accomplished singer-songwriters in their own right\, are an acoustic folk duo based in Longmont\, CO. Tim Ostdiek’s songwriting has garnered accolades such as finalist in the 2019 Telluride Troubadour and finalist in the 2019 and 2022 Folks Fest Songwriter Showcase. His third studio album\, the Lost Days\, is out now. And when Jenny is not singing harmonies alongside Tim\, she’s working on her upcoming sequel to her self-published book\, Noryn’s Legend\, and freelances as a graphic designer. Tim and Jenny always bring a lively and dynamic presence to their shows\, leaning into Tim’s original songs and their popular and surprising covers. \nArtist Instagram
URL:https://dairyblock.com/events/alley-soundscapes-tim-jenny-2/
LOCATION:Dairy Block\, 1800 Wazee\, Denver\, CO\, 80202\, United States
CATEGORIES:Music
ATTACH;FMTTYPE=image/png:https://dairyblock.com/wp-content/uploads/2025/04/Dairy-Block-Website-Listing-590-x-360-px-29.png
GEO:39.7531094;-104.9972788
X-APPLE-STRUCTURED-LOCATION;VALUE=URI;X-ADDRESS=Dairy Block 1800 Wazee Denver CO 80202 United States;X-APPLE-RADIUS=500;X-TITLE=1800 Wazee:geo:-104.9972788,39.7531094
END:VEVENT
END:VCALENDAR