BEGIN:VCALENDAR
VERSION:2.0
PRODID:-//Dairy Block - ECPv6.15.20//NONSGML v1.0//EN
CALSCALE:GREGORIAN
METHOD:PUBLISH
X-WR-CALNAME:Dairy Block
X-ORIGINAL-URL:https://dairyblock.com
X-WR-CALDESC:Events for Dairy Block
REFRESH-INTERVAL;VALUE=DURATION:PT1H
X-Robots-Tag:noindex
X-PUBLISHED-TTL:PT1H
BEGIN:VTIMEZONE
TZID:UTC
BEGIN:STANDARD
TZOFFSETFROM:+0000
TZOFFSETTO:+0000
TZNAME:UTC
DTSTART:20230101T000000
END:STANDARD
END:VTIMEZONE
BEGIN:VEVENT
DTSTART;TZID=UTC:20240622T110000
DTEND;TZID=UTC:20240622T140000
DTSTAMP:20260425T143847
CREATED:20240515T210458Z
LAST-MODIFIED:20241115T173424Z
UID:19820-1719054000-1719064800@dairyblock.com
SUMMARY:Blockwide Pride
DESCRIPTION:We’re showing our Pride\, blockwide!\nJoin us as we celebrate Denver Pride Weekend on Saturday June 22 from 11 AM – 2 PM. \nHead to the alley for a Dairy Block drag show\, featuring six of Denver’s top queens: our host Jazmine James\, Brittany Michaels\, Alexis Staxx\, Mirage Delamor\, Muni Tox and Star Kirkland. \nCapture the moment in the vintage VW Bus photo booth and step up your glam with pride themed face makeup. Enjoy special cocktails\, queer art and more in the vibrant alley! This event is free and open to the public.
URL:https://dairyblock.com/events/blockwide-pride-2/
LOCATION:Dairy Block\, 1800 Wazee\, Denver\, CO\, 80202\, United States
CATEGORIES:Art + Culture,Food + Drink,Music
ATTACH;FMTTYPE=image/jpeg:https://dairyblock.com/wp-content/uploads/2024/05/PRIDE.jpg
GEO:39.7531094;-104.9972788
X-APPLE-STRUCTURED-LOCATION;VALUE=URI;X-ADDRESS=Dairy Block 1800 Wazee Denver CO 80202 United States;X-APPLE-RADIUS=500;X-TITLE=1800 Wazee:geo:-104.9972788,39.7531094
END:VEVENT
END:VCALENDAR