BEGIN:VCALENDAR
VERSION:2.0
PRODID:-//Dairy Block - ECPv6.15.20//NONSGML v1.0//EN
CALSCALE:GREGORIAN
METHOD:PUBLISH
X-WR-CALNAME:Dairy Block
X-ORIGINAL-URL:https://dairyblock.com
X-WR-CALDESC:Events for Dairy Block
REFRESH-INTERVAL;VALUE=DURATION:PT1H
X-Robots-Tag:noindex
X-PUBLISHED-TTL:PT1H
BEGIN:VTIMEZONE
TZID:UTC
BEGIN:STANDARD
TZOFFSETFROM:+0000
TZOFFSETTO:+0000
TZNAME:UTC
DTSTART:20240101T000000
END:STANDARD
END:VTIMEZONE
BEGIN:VEVENT
DTSTART;TZID=UTC:20250215T110000
DTEND;TZID=UTC:20250215T140000
DTSTAMP:20260425T120717
CREATED:20250123T204143Z
LAST-MODIFIED:20250123T204143Z
UID:10008539-1739617200-1739628000@dairyblock.com
SUMMARY:XoXo Market
DESCRIPTION:Love is in the air at Dairy Block\, and we’re celebrating Valentine’s Day weekend with a market like no other! Join us and Outfront Magazine Saturday\, February 15th and Sunday\, February 16th from 11 am to 2 pm to shop local vendors\, enjoy delicious bites\, and a fun-filled Sunday with Drag Queen Bingo Brunch. \nCheck back soon for our featured vendors!
URL:https://dairyblock.com/events/xoxo-market/2025-02-15/
LOCATION:Denver Milk Market\, 1800 Wazee St Suite 100\, Denver\, CO\, 80202\, United States
CATEGORIES:Food + Drink
ATTACH;FMTTYPE=image/jpeg:https://dairyblock.com/wp-content/uploads/2025/01/Screenshot_23-1-2025_134040_images.getbento.com_.jpeg
GEO:39.7532096;-104.9968463
X-APPLE-STRUCTURED-LOCATION;VALUE=URI;X-ADDRESS=Denver Milk Market 1800 Wazee St Suite 100 Denver CO 80202 United States;X-APPLE-RADIUS=500;X-TITLE=1800 Wazee St Suite 100:geo:-104.9968463,39.7532096
END:VEVENT
END:VCALENDAR