BEGIN:VCALENDAR
VERSION:2.0
PRODID:-//Dairy Block - ECPv6.15.20//NONSGML v1.0//EN
CALSCALE:GREGORIAN
METHOD:PUBLISH
X-WR-CALNAME:Dairy Block
X-ORIGINAL-URL:https://dairyblock.com
X-WR-CALDESC:Events for Dairy Block
REFRESH-INTERVAL;VALUE=DURATION:PT1H
X-Robots-Tag:noindex
X-PUBLISHED-TTL:PT1H
BEGIN:VTIMEZONE
TZID:UTC
BEGIN:STANDARD
TZOFFSETFROM:+0000
TZOFFSETTO:+0000
TZNAME:UTC
DTSTART:20230101T000000
END:STANDARD
END:VTIMEZONE
BEGIN:VEVENT
DTSTART;TZID=UTC:20240616T110000
DTEND;TZID=UTC:20240616T130000
DTSTAMP:20260425T144348
CREATED:20240523T190123Z
LAST-MODIFIED:20240523T190235Z
UID:20100-1718535600-1718542800@dairyblock.com
SUMMARY:Youth Friendly Drag Queen Bingo
DESCRIPTION:A youth-friendly Drag Queen Bingo with our resident queens encouraging aspiring queens to perform and a friendship bracelet station! A portion of proceeds from all mimosa and gelato sales will be donated to the White Rose Scholarship.
URL:https://dairyblock.com/events/youth-friendly-drag-queen-bingo/
LOCATION:Denver Milk Market\, 1800 Wazee St Suite 100\, Denver\, CO\, 80202\, United States
CATEGORIES:Art + Culture,Food + Drink,Music
ATTACH;FMTTYPE=image/jpeg:https://dairyblock.com/wp-content/uploads/2024/05/DSC09455-Edit.jpg
GEO:39.7532096;-104.9968463
X-APPLE-STRUCTURED-LOCATION;VALUE=URI;X-ADDRESS=Denver Milk Market 1800 Wazee St Suite 100 Denver CO 80202 United States;X-APPLE-RADIUS=500;X-TITLE=1800 Wazee St Suite 100:geo:-104.9968463,39.7532096
END:VEVENT
END:VCALENDAR